BEGIN:VCALENDAR
VERSION:2.0
CALSCALE:GREGORIAN
PRODID:-//Diputació de Barcelona//DibaCMS//EN
BEGIN:VEVENT
UID:3256
DTSTAMP:20260421T095132
DTSTART:20180830T210000
DTEND:20180830T000000
SUMMARY:La Repesca | Festa Major 2018
LOCATION:Passatge Victorià Oliveras de la Riva, S/N 08512 Sant Hipòlit de Voltregà
METHOD:PUBLISH
X-WR-CALNAME:st.hipolit@santhipolitdevoltrega.cat
X-WR-TIMEZONE:Europe/Madrid
DESCRIPTION:T’has quedat amb ganes de més aquest mundial 2018? Tria una de les seleccions que et proposem i treu el hooligan que portes dins! Vine a superar les proves que et posarem i porta al teu país fins a la victòria del mundial dels losers.

URI:https://www.santhipolitdevoltrega.cat/actualitat/agenda/la-repesca--festa-major-2018.html
CLASS:PUBLIC
END:VEVENT
END:VCALENDAR
