BEGIN:VCALENDAR
VERSION:2.0
CALSCALE:GREGORIAN
PRODID:-//Diputació de Barcelona//DibaCMS//EN
BEGIN:VEVENT
UID:3255
DTSTAMP:20260423T121229
DTSTART:20180830T193000
DTEND:20180830T203000
SUMMARY:Conferència voluntariat social i la bellesa d'envellir | Marina Geli
LOCATION:Carrer Bisbe Morgades, 1 08512 Sant Hipòlit de Voltregà
METHOD:PUBLISH
X-WR-CALNAME:st.hipolit@santhipolitdevoltrega.cat
X-WR-TIMEZONE:Europe/Madrid
DESCRIPTION:Conferència de la doctora Marina Geli, exconsellera de Salut de la Generalitat i coordinadora del Centre d’Estudis Sanitaris i Socials de la UVic – UCC. 

Organitza Messaia.

 

URI:https://www.santhipolitdevoltrega.cat/actualitat/agenda/conferencia-voluntariat-social-i-la-bellesa-denvellir--marina-geli.html
CLASS:PUBLIC
END:VEVENT
END:VCALENDAR
