BEGIN:VCALENDAR
VERSION:2.0
CALSCALE:GREGORIAN
PRODID:-//Diputació de Barcelona//DibaCMS//EN
BEGIN:VEVENT
UID:3254
DTSTAMP:20260421T062756
DTSTART:20180829T163000
DTEND:20180829T220000
SUMMARY:Marató de donants de sang | La superexperiència de donar sang
LOCATION:Passatge Victorià Oliveras de la Riva, S/N 08512 Sant Hipòlit de Voltregà
METHOD:PUBLISH
X-WR-CALNAME:st.hipolit@santhipolitdevoltrega.cat
X-WR-TIMEZONE:Europe/Madrid
DESCRIPTION:Amb una vegada no n'hi ha prou. Vine a donar sang.

Recorda que per poder donar sang cal portar el DNI 



URI:https://www.santhipolitdevoltrega.cat/actualitat/agenda/marato-de-donants-de-sang--la-superexperiencia-de-donar-sang.html
CLASS:PUBLIC
END:VEVENT
END:VCALENDAR
