BEGIN:VCALENDAR
VERSION:2.0
CALSCALE:GREGORIAN
PRODID:-//Diputació de Barcelona//DibaCMS//EN
BEGIN:VEVENT
UID:3250
DTSTAMP:20260421T044209
DTSTART:20180827T210000
DTEND:20180827T230000
SUMMARY:Cinema a la fresca | Festa Major 2018
LOCATION:Font de la Sala 08512 Sant Hipòlit de Voltregà
METHOD:PUBLISH
X-WR-CALNAME:st.hipolit@santhipolitdevoltrega.cat
X-WR-TIMEZONE:Europe/Madrid
DESCRIPTION:
URI:https://www.santhipolitdevoltrega.cat/actualitat/agenda/cinema-a-la-fresca--festa-major-2018.html
CLASS:PUBLIC
END:VEVENT
END:VCALENDAR
