BEGIN:VCALENDAR
VERSION:2.0
CALSCALE:GREGORIAN
PRODID:-//Diputació de Barcelona//DibaCMS//EN
BEGIN:VEVENT
UID:3249
DTSTAMP:20260421T064130
DTSTART:20180826T200000
DTEND:20180826T000000
SUMMARY:Swing it | Festa Major 2018
LOCATION:Amfiteatre del Pilar 
METHOD:PUBLISH
X-WR-CALNAME:st.hipolit@santhipolitdevoltrega.cat
X-WR-TIMEZONE:Europe/Madrid
DESCRIPTION:Swing it! És una activitat participativa que consisteix en una peça curta narrativa al més pur estil Mar Gómez, seguida d’una classe oberta popular per tal que el públic gaudeixi i aprengui els fonaments del swing amb grans dosis d’humor.

URI:https://www.santhipolitdevoltrega.cat/actualitat/agenda/swing-it--festa-major-2018.html
CLASS:PUBLIC
END:VEVENT
END:VCALENDAR
