BEGIN:VCALENDAR
VERSION:2.0
CALSCALE:GREGORIAN
PRODID:-//Diputació de Barcelona//DibaCMS//EN
BEGIN:VEVENT
UID:3248
DTSTAMP:20260421T035250
DTSTART:20180826T170000
DTEND:20180826T000000
SUMMARY:Quinto popular | Festa Major 2018
LOCATION:Carrer Hospital, 11 08512 Sant Hipòlit de Voltregà
METHOD:PUBLISH
X-WR-CALNAME:st.hipolit@santhipolitdevoltrega.cat
X-WR-TIMEZONE:Europe/Madrid
DESCRIPTION:
URI:https://www.santhipolitdevoltrega.cat/actualitat/agenda/quinto-popular--festa-major-2018.html
CLASS:PUBLIC
END:VEVENT
END:VCALENDAR
