BEGIN:VCALENDAR
VERSION:2.0
CALSCALE:GREGORIAN
PRODID:-//Diputació de Barcelona//DibaCMS//EN
BEGIN:VEVENT
UID:3247
DTSTAMP:20260421T033251
DTSTART:20180826T120000
DTEND:20180826T133000
SUMMARY:Vermutada popular | Festa Major 2018
LOCATION:La Catòlica 
METHOD:PUBLISH
X-WR-CALNAME:st.hipolit@santhipolitdevoltrega.cat
X-WR-TIMEZONE:Europe/Madrid
DESCRIPTION:Organitza la Comissió de Festes de Sant Hipòlit de Voltregà.

URI:https://www.santhipolitdevoltrega.cat/actualitat/agenda/vermutada-popular--festa-major-2018.html
CLASS:PUBLIC
END:VEVENT
END:VCALENDAR
