BEGIN:VCALENDAR
VERSION:2.0
CALSCALE:GREGORIAN
PRODID:-//Diputació de Barcelona//DibaCMS//EN
BEGIN:VEVENT
UID:3245
DTSTAMP:20260421T034142
DTSTART:20180825T210000
DTEND:20180825T000000
SUMMARY:Sopar de barretets i barretots | Festa Major 2018
LOCATION:Passatge Victorià Oliveras de la Riva, S/N 08512 Sant Hipòlit de Voltregà
METHOD:PUBLISH
X-WR-CALNAME:st.hipolit@santhipolitdevoltrega.cat
X-WR-TIMEZONE:Europe/Madrid
DESCRIPTION:Un dels actes més divertits i heterogenis de la Festa Major de l'any passat, repetim el sopar de barretets i barretots. Cal portar un senyor barret (preferiblement casolà), però cal portar-ne! No demanem tant ... Moltes ganes de menjar, ballar, cantar i sobretot passar-ho bé!

URI:https://www.santhipolitdevoltrega.cat/actualitat/agenda/sopar-de-barretets-i-barretots--festa-major-2018.html
CLASS:PUBLIC
END:VEVENT
END:VCALENDAR
