BEGIN:VCALENDAR
VERSION:2.0
CALSCALE:GREGORIAN
PRODID:-//Diputació de Barcelona//DibaCMS//EN
BEGIN:VEVENT
UID:3244
DTSTAMP:20260423T134538
DTSTART:20180825T170000
DTEND:20180825T000000
SUMMARY:Baixada de "Correpasillos" | Festa Major 2018
LOCATION:Carrer Mossén Jacint Verdaguer - Carrer Major 
METHOD:PUBLISH
X-WR-CALNAME:st.hipolit@santhipolitdevoltrega.cat
X-WR-TIMEZONE:Europe/Madrid
DESCRIPTION:I avall que fa baixada! A causa de l'èxit de l'edició de l'any passat i la baixa participació de l'ambulància, aquest any hem treballat de nou amb l'associació d'amics dels genolls pelats i ens hem atrevit a tornar-ho a provar. Així doncs, comenceu a buscar els "correpasillos" o bé
demaneu-lo al cosí petit. Prepareu els cascos, els guants, les genolleres ... i sobretot, intenteu no petar el motor del bòlid. Salut i gas!

URI:https://www.santhipolitdevoltrega.cat/actualitat/agenda/baixada-de-correpasillos--festa-major-2018.html
CLASS:PUBLIC
END:VEVENT
END:VCALENDAR
