BEGIN:VCALENDAR
VERSION:2.0
CALSCALE:GREGORIAN
PRODID:-//Diputació de Barcelona//DibaCMS//EN
BEGIN:VEVENT
UID:3242
DTSTAMP:20260421T050505
DTSTART:20180825T163000
DTEND:20180825T180000
SUMMARY:Torneig llampec d'escacs | Festa Major 2018
LOCATION:Carrer Hospital, 11 08512 Sant Hipòlit de Voltregà
METHOD:PUBLISH
X-WR-CALNAME:st.hipolit@santhipolitdevoltrega.cat
X-WR-TIMEZONE:Europe/Madrid
DESCRIPTION:Organitza el Club d'Escacs Voltregà

URI:https://www.santhipolitdevoltrega.cat/actualitat/agenda/torneig-llampec-descacs--festa-major-2018.html
CLASS:PUBLIC
END:VEVENT
END:VCALENDAR
