BEGIN:VCALENDAR
VERSION:2.0
CALSCALE:GREGORIAN
PRODID:-//Diputació de Barcelona//DibaCMS//EN
BEGIN:VEVENT
UID:3241
DTSTAMP:20260423T115450
DTSTART:20180824T223000
DTEND:20180824T230000
SUMMARY:XI El Drac que Vol Tragar | Festa Major 2018
LOCATION:Plaça de l'Església 
METHOD:PUBLISH
X-WR-CALNAME:st.hipolit@santhipolitdevoltrega.cat
X-WR-TIMEZONE:Europe/Madrid
DESCRIPTION:El 24 d'agost de 2008 va aparèixer el Drac que Vol Tragar per primer cop a Sant Hipòlit. La casualitat ha volgut, que just deu anys després, en el mateix dia, puguem representar la XI edició de l'espectacle. Per celebrar tal efemèride, canviarem la ubicació habitual per la plaça de l'Església.

Començarem amb una concentració de cabres, cabrits i cabrons del Voltreganès a la misteriosa plaça sense nom (al costat del "rompaculs") i baixarem xino-xano cap a la plaça en processó per rendir honors a l'heroïna de la nostra història.

Tot seguit DRACFEST sota el pont del torrent de Mitjavila.

URI:https://www.santhipolitdevoltrega.cat/actualitat/agenda/xi-el-drac-que-vol-tragar--festa-major-2018.html
CLASS:PUBLIC
END:VEVENT
END:VCALENDAR
