BEGIN:VCALENDAR
VERSION:2.0
CALSCALE:GREGORIAN
PRODID:-//Diputació de Barcelona//DibaCMS//EN
BEGIN:VEVENT
UID:3240
DTSTAMP:20260421T095705
DTSTART:20180824T220000
DTEND:20180824T223000
SUMMARY:Passacarrers "Rociero" | Festa Major 2018
LOCATION:Carrer Mallol
Carrer de l'Església
Plaça de l'Església 
METHOD:PUBLISH
X-WR-CALNAME:st.hipolit@santhipolitdevoltrega.cat
X-WR-TIMEZONE:Europe/Madrid
DESCRIPTION:Organitza la Colla de Diables del Foltreganès "Foc i Ganxo" i Valltucada del Ges.

URI:https://www.santhipolitdevoltrega.cat/actualitat/agenda/passacarrers-rociero--festa-major-2018.html
CLASS:PUBLIC
END:VEVENT
END:VCALENDAR
