BEGIN:VCALENDAR
VERSION:2.0
CALSCALE:GREGORIAN
PRODID:-//Diputació de Barcelona//DibaCMS//EN
BEGIN:VEVENT
UID:3239
DTSTAMP:20260423T121811
DTSTART:20180824T213000
DTEND:20180824T220000
SUMMARY:Concentració de cabres, cabrits i cabrons del Voltreganès | Festa Major 2018
LOCATION:Encreuament del carrer Mallol amb el carrer Sants Màrtirs 
METHOD:PUBLISH
X-WR-CALNAME:st.hipolit@santhipolitdevoltrega.cat
X-WR-TIMEZONE:Europe/Madrid
DESCRIPTION:Organitza la Comissió de Festes i la Colla de Diables del Voltreganès "Foc i Ganxo"

URI:https://www.santhipolitdevoltrega.cat/actualitat/agenda/concentracio-de-cabres-cabrits-i-cabrons-del-voltreganes--festa-major-2018.html
CLASS:PUBLIC
END:VEVENT
END:VCALENDAR
