BEGIN:VCALENDAR
VERSION:2.0
CALSCALE:GREGORIAN
PRODID:-//Diputació de Barcelona//DibaCMS//EN
BEGIN:VEVENT
UID:3213
DTSTAMP:20260421T064719
DTSTART:20180809T100000
DTEND:20180809T120000
SUMMARY:Club de la Feina
LOCATION:El Sac de la Gleva (Escola d'Adults)
Carretera de Sant Boi de Lluçanès, s/n 
METHOD:PUBLISH
X-WR-CALNAME:st.hipolit@santhipolitdevoltrega.cat
X-WR-TIMEZONE:Europe/Madrid
DESCRIPTION:Vacances del 2 d'agost al 13 de setembre de 2018, ambdós inclosos.

Durant el mes d'agost us podeu dirigir als Ajuntaments de les Masies i Sant Hipòlit de Voltregà per demanar hora al Servei Local d'Ocupació del Voltreganès.

Bon estiu!

URI:https://www.santhipolitdevoltrega.cat/actualitat/agenda/3213-club-de-la-feina.html
CLASS:PUBLIC
END:VEVENT
END:VCALENDAR
