BEGIN:VCALENDAR
VERSION:2.0
CALSCALE:GREGORIAN
PRODID:-//Diputació de Barcelona//DibaCMS//EN
BEGIN:VEVENT
UID:3199
DTSTAMP:20260421T031853
DTSTART:20180709T100000
DTEND:20180709T120000
SUMMARY:Monogràfic gratuït | L'entrevista
LOCATION:El Sac de la Gleva (Escola d'Adults) 
METHOD:PUBLISH
X-WR-CALNAME:st.hipolit@santhipolitdevoltrega.cat
X-WR-TIMEZONE:Europe/Madrid
DESCRIPTION:Des des del Servei Local d'Ocupació del Voltreganès s'inicien els monogràfics relacionats amb l'ocupació per a persones majors de 30 anys.

URI:https://www.santhipolitdevoltrega.cat/actualitat/agenda/monografic-gratuit--lentrevista.html
CLASS:PUBLIC
END:VEVENT
END:VCALENDAR
