BEGIN:VCALENDAR
VERSION:2.0
CALSCALE:GREGORIAN
PRODID:-//Diputació de Barcelona//DibaCMS//EN
BEGIN:VEVENT
UID:3197
DTSTAMP:20260421T044246
DTSTART:20180710T100000
DTEND:20180710T120000
SUMMARY:Ei jove! Monogràfic l'entrevista per competències
LOCATION:El Sac de la Gleva (Escola d'Adults) 
METHOD:PUBLISH
X-WR-CALNAME:st.hipolit@santhipolitdevoltrega.cat
X-WR-TIMEZONE:Europe/Madrid
DESCRIPTION:Des des del Servei Local d'Ocupació del Voltreganès i dins el programa KURRA'T EL CURRO! s'inicien els monogràfics relacionats amb l'ocupació.

URI:https://www.santhipolitdevoltrega.cat/actualitat/agenda/ei-jove-monografic-lentrevista-per-competencies.html
CLASS:PUBLIC
END:VEVENT
END:VCALENDAR
