BEGIN:VCALENDAR
VERSION:2.0
CALSCALE:GREGORIAN
PRODID:-//Diputació de Barcelona//DibaCMS//EN
BEGIN:VEVENT
UID:3177
DTSTAMP:20260423T154821
DTSTART:20180719T213000
DTEND:20180719T223000
SUMMARY:Manu Guix
LOCATION:
METHOD:PUBLISH
X-WR-CALNAME:st.hipolit@santhipolitdevoltrega.cat
X-WR-TIMEZONE:Europe/Madrid
DESCRIPTION:Manu Guix és un compositor, director musical i intèrpret nascut a Barcelona. La seva formació musical va començar l’any 1987 al Conservatori Municipal de Música de Barcelona i va cursar els estudis a l’Escola LIPA (Liverpool of Performing Arts). 

URI:https://www.santhipolitdevoltrega.cat/actualitat/agenda/manu-guix.html
CLASS:PUBLIC
END:VEVENT
END:VCALENDAR
