BEGIN:VCALENDAR
VERSION:2.0
CALSCALE:GREGORIAN
PRODID:-//Diputació de Barcelona//DibaCMS//EN
BEGIN:VEVENT
UID:3176
DTSTAMP:20260421T015516
DTSTART:20180718T213000
DTEND:20180718T223000
SUMMARY:Cirduit fem dansa! Sinestèsia | Iron Skulls
LOCATION:
METHOD:PUBLISH
X-WR-CALNAME:st.hipolit@santhipolitdevoltrega.cat
X-WR-TIMEZONE:Europe/Madrid
DESCRIPTION:Sinestèsia representa un món postapocalíptic on, a través de la dansa experimental, es forma un grup de supervivents i comença un viatge cap a la seguretat. Al llarg de la peça, el hip-hop, l’acrobàcia i la dansa contemporània es fusionen per crear un llenguatge  on la línia entre humans i animals es desdibuixi, convidant l’espectador a un joc d’interferències sensorials.

URI:https://www.santhipolitdevoltrega.cat/actualitat/agenda/cirduit-fem-dansa-sinestesia--iron-skulls.html
CLASS:PUBLIC
END:VEVENT
END:VCALENDAR
