BEGIN:VCALENDAR
VERSION:2.0
CALSCALE:GREGORIAN
PRODID:-//Diputació de Barcelona//DibaCMS//EN
BEGIN:VEVENT
UID:3175
DTSTAMP:20260421T032759
DTSTART:20180718T210000
DTEND:20180718T220000
SUMMARY:Circuit fem dansa! Labranza | Col·lectiu Lamajara
LOCATION:Carrer Hospital, 11 08512 Sant Hipòlit de Voltregà
METHOD:PUBLISH
X-WR-CALNAME:st.hipolit@santhipolitdevoltrega.cat
X-WR-TIMEZONE:Europe/Madrid
DESCRIPTION:”Voldria saber de la terra i de la seva gent.” Muñoz Rojas Labranza és un reflex del camp, de la seva gent i dels seus quefers, ple de vitalitat humana. Un lloc de contemplació de la identitat rural de cadascú de nosaltres. Una mirada sobre la relació existent entre “home-camp” i “ballarí-cos”. Què ens uneix i què ens separa?

URI:https://www.santhipolitdevoltrega.cat/actualitat/agenda/circuit-fem-dansa-labranza--collectiu-lamajara.html
CLASS:PUBLIC
END:VEVENT
END:VCALENDAR
