BEGIN:VCALENDAR
VERSION:2.0
CALSCALE:GREGORIAN
PRODID:-//Diputació de Barcelona//DibaCMS//EN
BEGIN:VEVENT
UID:3174
DTSTAMP:20260421T091802
DTSTART:20180717T210000
DTEND:20180717T210000
SUMMARY:Flou Papagayo | Mumusic Circus
LOCATION:Amfiteatre del Pilar 
METHOD:PUBLISH
X-WR-CALNAME:st.hipolit@santhipolitdevoltrega.cat
X-WR-TIMEZONE:Europe/Madrid
DESCRIPTION:Col·loqueu-vos al voltant de l’escenari circular on transcorre l’espectacle i prepareu la imaginació, perquè l’escenografia nua i minimalista ja apunta que la metàfora i la fantasia tenen un paper destacat en el nou muntatge de Mumusic Circus. 

URI:https://www.santhipolitdevoltrega.cat/actualitat/agenda/flou-papagayo--mumusic-circus.html
CLASS:PUBLIC
END:VEVENT
END:VCALENDAR
