BEGIN:VCALENDAR
VERSION:2.0
CALSCALE:GREGORIAN
PRODID:-//Diputació de Barcelona//DibaCMS//EN
BEGIN:VEVENT
UID:3173
DTSTAMP:20260421T032253
DTSTART:20180716T213000
DTEND:20180618T223000
SUMMARY:Pedalant Endins | Marcel Lázara i Júlia Arrey
LOCATION:
METHOD:PUBLISH
X-WR-CALNAME:st.hipolit@santhipolitdevoltrega.cat
X-WR-TIMEZONE:Europe/Madrid
DESCRIPTION:
URI:https://www.santhipolitdevoltrega.cat/actualitat/agenda/pedalant-endins--marcel-lazara-i-julia-arrey.html
CLASS:PUBLIC
END:VEVENT
END:VCALENDAR
