BEGIN:VCALENDAR
VERSION:2.0
CALSCALE:GREGORIAN
PRODID:-//Diputació de Barcelona//DibaCMS//EN
BEGIN:VEVENT
UID:3172
DTSTAMP:20260421T031929
DTSTART:20180712T210000
DTEND:20180712T220000
SUMMARY:Furiesse Tendresse | Cirque Exalté (Bèlgica)
LOCATION:Passatge Victorià Oliveras de la Riva, S/N 08512 Sant Hipòlit de Voltregà
METHOD:PUBLISH
X-WR-CALNAME:st.hipolit@santhipolitdevoltrega.cat
X-WR-TIMEZONE:Europe/Madrid
DESCRIPTION:Tres exaltats surten a escena amb la mateixa passió que desprèn el rock salvatge i la poesia ardent del disc «Horses» de Patti Smith.

URI:https://www.santhipolitdevoltrega.cat/actualitat/agenda/furiesse-tendresse--cirque-exalte-belgica.html
CLASS:PUBLIC
END:VEVENT
END:VCALENDAR
