BEGIN:VCALENDAR
VERSION:2.0
CALSCALE:GREGORIAN
PRODID:-//Diputació de Barcelona//DibaCMS//EN
BEGIN:VEVENT
UID:3171
DTSTAMP:20260421T032010
DTSTART:20180711T213000
DTEND:20180711T230000
SUMMARY:Halldór Már
LOCATION:Carrer de la Ciutadella 08512 Sant Hipòlit de Voltregà
METHOD:PUBLISH
X-WR-CALNAME:st.hipolit@santhipolitdevoltrega.cat
X-WR-TIMEZONE:Europe/Madrid
DESCRIPTION:Músic islandès que va enamorar-se de Catalunya. Viu a Barcelona, parla un bon català i a més a més, té un ampli repertori de cançons mítiques catalanes traduïdes a l’anglès. A “Katalonski”, Halldór viatja amb la seva vella guitarra acústica i molt sovint acaba cantant amb els personatges les cançons preferides per ells.

URI:https://www.santhipolitdevoltrega.cat/actualitat/agenda/halldor-mar.html
CLASS:PUBLIC
END:VEVENT
END:VCALENDAR
