BEGIN:VCALENDAR
VERSION:2.0
CALSCALE:GREGORIAN
PRODID:-//Diputació de Barcelona//DibaCMS//EN
BEGIN:VEVENT
UID:3170
DTSTAMP:20260421T075005
DTSTART:20180710T213000
DTEND:20180710T230000
SUMMARY:Balkan Paradise Orquestra
LOCATION:Amfiteatre del Pilar 
METHOD:PUBLISH
X-WR-CALNAME:st.hipolit@santhipolitdevoltrega.cat
X-WR-TIMEZONE:Europe/Madrid
DESCRIPTION:Metall. Festiu. Balcànic i mediterrani. Femení. Acústic.

URI:https://www.santhipolitdevoltrega.cat/actualitat/agenda/balkan-paradise-orquestra.html
CLASS:PUBLIC
END:VEVENT
END:VCALENDAR
