BEGIN:VCALENDAR
VERSION:2.0
CALSCALE:GREGORIAN
PRODID:-//Diputació de Barcelona//DibaCMS//EN
BEGIN:VEVENT
UID:3169
DTSTAMP:20260421T031953
DTSTART:20180709T213000
DTEND:20180709T230000
SUMMARY:Cinema a la fresca
LOCATION:Carrer Garbí 08512 Sant Hipòlit de Voltregà
METHOD:PUBLISH
X-WR-CALNAME:st.hipolit@santhipolitdevoltrega.cat
X-WR-TIMEZONE:Europe/Madrid
DESCRIPTION:Cinema a la fresca amb la projecció d'una pel·lícula.

URI:https://www.santhipolitdevoltrega.cat/actualitat/agenda/3169-cinema-a-la-fresca.html
CLASS:PUBLIC
END:VEVENT
END:VCALENDAR
