BEGIN:VCALENDAR
VERSION:2.0
CALSCALE:GREGORIAN
PRODID:-//Diputació de Barcelona//DibaCMS//EN
BEGIN:VEVENT
UID:3167
DTSTAMP:20260421T082132
DTSTART:20180704T210000
DTEND:20180704T220000
SUMMARY:Petit Artot. Cabaret de Pallasses | Decopivoltateatre
LOCATION:Plaça Catalunya de Sant Hipòlit de Voltregà 
METHOD:PUBLISH
X-WR-CALNAME:st.hipolit@santhipolitdevoltrega.cat
X-WR-TIMEZONE:Europe/Madrid
DESCRIPTION:Pallasses arribades d’arreu conflueixen en un espectacle variat i dinàmic, fent gala dels diferents personatges i de les personalitats que afloren en l’especial món de la comicitat femenina.
Universos diferents amb un objectiu comú: riure-se’n d’elles mateixes i provocar emocions.

URI:https://www.santhipolitdevoltrega.cat/actualitat/agenda/petit-artot-cabaret-de-pallasses--decopivoltateatre.html
CLASS:PUBLIC
END:VEVENT
END:VCALENDAR
