BEGIN:VCALENDAR
VERSION:2.0
CALSCALE:GREGORIAN
PRODID:-//Diputació de Barcelona//DibaCMS//EN
BEGIN:VEVENT
UID:3166
DTSTAMP:20260421T095615
DTSTART:20180704T190000
DTEND:20180705T220000
SUMMARY:Petit Artot. Vides de Circ | Teatre sobre rodes
LOCATION:Plaça de Catalunya de Sant Hipòlit de Voltregà 
METHOD:PUBLISH
X-WR-CALNAME:st.hipolit@santhipolitdevoltrega.cat
X-WR-TIMEZONE:Europe/Madrid
DESCRIPTION:Teatre sobre rodes és un espai escènic mòbil. Un teatre ambulant per donar la possibilitat a qualsevol persona de gaudir, comprendre i entendre l’art.
 

URI:https://www.santhipolitdevoltrega.cat/actualitat/agenda/petit-artot-vides-de-circ--teatre-sobre-rodes.html
CLASS:PUBLIC
END:VEVENT
END:VCALENDAR
