BEGIN:VCALENDAR
VERSION:2.0
CALSCALE:GREGORIAN
PRODID:-//Diputació de Barcelona//DibaCMS//EN
BEGIN:VEVENT
UID:3165
DTSTAMP:20260421T063942
DTSTART:20180703T213000
DTEND:20180703T223000
SUMMARY:Concert Escola Municipal de Música
LOCATION:
METHOD:PUBLISH
X-WR-CALNAME:st.hipolit@santhipolitdevoltrega.cat
X-WR-TIMEZONE:Europe/Madrid
DESCRIPTION:Concert de grups i formacions instrumentals de l’Escola Municipal de Música de Sant Hipòlit de Voltregà, on es veurà una mostra de la tasca pedagògica i el treball fet per l’alumnat durant aquest curs.

URI:https://www.santhipolitdevoltrega.cat/actualitat/agenda/concert-escola-municipal-de-musica.html
CLASS:PUBLIC
END:VEVENT
END:VCALENDAR
