BEGIN:VCALENDAR
VERSION:2.0
CALSCALE:GREGORIAN
PRODID:-//Diputació de Barcelona//DibaCMS//EN
BEGIN:VEVENT
UID:3139
DTSTAMP:20260421T033429
DTSTART:20180608T210000
DTEND:20180609T223000
SUMMARY:Premis Osonencs 40 anys
LOCATION:Carrer de l'Església,1 08512 Sant Hipòlit de Voltregà
METHOD:PUBLISH
X-WR-CALNAME:st.hipolit@santhipolitdevoltrega.cat
X-WR-TIMEZONE:Europe/Madrid
DESCRIPTION:Un dels actes més destacats de la celebració del 40è aniversari d’EL 9 NOU és la Gala dels Premis Osonencs 40 anys. Enguany, amb motiu de l’efemèride, el Premi Osonenc de l’Any pren una nova dimensió i es volen reconèixer quatre trajectòries de persones de la comarca que han destacat durant aquestes quatre dècades en quatre grans àmbits: Societat, Cultura, Esports i Entitats socials.

URI:https://www.santhipolitdevoltrega.cat/actualitat/agenda/premis-osonencs-40-anys.html
CLASS:PUBLIC
END:VEVENT
END:VCALENDAR
