BEGIN:VCALENDAR
VERSION:2.0
CALSCALE:GREGORIAN
PRODID:-//Diputació de Barcelona//DibaCMS//EN
BEGIN:VEVENT
UID:3121
DTSTAMP:20260421T063820
DTSTART:20180607T093000
DTEND:20180607T190000
SUMMARY:Sortida al Poble Espanyol 
LOCATION:
METHOD:PUBLISH
X-WR-CALNAME:st.hipolit@santhipolitdevoltrega.cat
X-WR-TIMEZONE:Europe/Madrid
DESCRIPTION:Amb motiu de la colenda de les activitats adreçades a dones del Voltreganès de més de 60 anys els ajuntaments de les Masies de Voltregà i de Sant Hipòlit de Voltregà, organitzen la sortida de primavera al Poble Espanyol de Barcelona.

URI:https://www.santhipolitdevoltrega.cat/actualitat/agenda/sortida-al-poble-espanyol-.html
CLASS:PUBLIC
END:VEVENT
END:VCALENDAR
