BEGIN:VCALENDAR
VERSION:2.0
CALSCALE:GREGORIAN
PRODID:-//Diputació de Barcelona//DibaCMS//EN
BEGIN:VEVENT
UID:3115
DTSTAMP:20260421T095351
DTSTART:20180509T190000
DTEND:20180509T200000
SUMMARY:Presentació Summer English Camp i Artistot
LOCATION:Carrer Hospital, 11 08512 Sant Hipòlit de Voltregà
METHOD:PUBLISH
X-WR-CALNAME:st.hipolit@santhipolitdevoltrega.cat
X-WR-TIMEZONE:Europe/Madrid
DESCRIPTION:S’acaba el curs escolar, però la diversió continua durant l’estiu i és per això que durant les vacances d’estiu cal buscar activitats en què es combinin diversió i aprenentatge perquè els nens i nenes estiguin ocupats.

És per això, que us convidem a la sessió informativa en la què us explicarem les activitats que tenim pensades pels vostres fills i filles. Us hi esperem!

URI:https://www.santhipolitdevoltrega.cat/actualitat/agenda/presentacio-summer-english-camp-i-artistot.html
CLASS:PUBLIC
END:VEVENT
END:VCALENDAR
