BEGIN:VCALENDAR
VERSION:2.0
CALSCALE:GREGORIAN
PRODID:-//Diputació de Barcelona//DibaCMS//EN
BEGIN:VEVENT
UID:3112
DTSTAMP:20260421T000152
DTSTART:20180507T173000
DTEND:20180507T183000
SUMMARY:ANEU AMB… CONTE! : “Dos contes i una Aurora” a càrrec de Titelles Naip
LOCATION:Carrer de la Vinya , 2 08512 Sant Hipòlit de Voltregà
METHOD:PUBLISH
X-WR-CALNAME:st.hipolit@santhipolitdevoltrega.cat
X-WR-TIMEZONE:Europe/Madrid
DESCRIPTION:Us convidem a gaudir d'una estona divertida amb aquest espectacle de titelles basat en una adaptació lliure de tres contes de l’Aurora i Prudenci Bertrana.

Ens explicaran els contes “Peikea” d’Aurora Bertrana, “El gos de presa” i “La lloca de la vídua” de Prudenci Bertrana.

Per a nens i nenes a partir de 3 anys.

Us hi esperem

URI:https://www.santhipolitdevoltrega.cat/actualitat/agenda/aneu-amb-conte--dos-contes-i-una-aurora-a-carrec-de-titelles-naip.html
CLASS:PUBLIC
END:VEVENT
END:VCALENDAR
