BEGIN:VCALENDAR
VERSION:2.0
CALSCALE:GREGORIAN
PRODID:-//Diputació de Barcelona//DibaCMS//EN
BEGIN:VEVENT
UID:3093
DTSTAMP:20260421T091833
DTSTART:20180422T100000
DTEND:20180422T190000
SUMMARY:3r Ral·li fotogràfic de Sant Jordi al Voltreganès
LOCATION:
METHOD:PUBLISH
X-WR-CALNAME:st.hipolit@santhipolitdevoltrega.cat
X-WR-TIMEZONE:Europe/Madrid
DESCRIPTION:L'Associació Fotogràfica del Voltreganès organitza el 3r Ral·li fotogràfic al Voltreganès per al proper dia 22 d'abril d'enguany, de 10 a 19 hores, a la Plaça Sant Jordi de les Masies de Voltregà.

URI:https://www.santhipolitdevoltrega.cat/actualitat/agenda/3r-ralli-fotografic-de-sant-jordi-al-voltreganes.html
CLASS:PUBLIC
END:VEVENT
END:VCALENDAR
