BEGIN:VCALENDAR
VERSION:2.0
CALSCALE:GREGORIAN
PRODID:-//Diputació de Barcelona//DibaCMS//EN
BEGIN:VEVENT
UID:3086
DTSTAMP:20260421T013747
DTSTART:20180503T150000
DTEND:20180503T163000
SUMMARY:Formació per a empreses i emprenedors | Tancar, vendre o continuar?
LOCATION:Carrer Batlle Serrallonga, 4 08512 Sant Hipòlit de Voltregà
METHOD:PUBLISH
X-WR-CALNAME:st.hipolit@santhipolitdevoltrega.cat
X-WR-TIMEZONE:Europe/Madrid
DESCRIPTION:"Tancar, vendre o continuar?" és una formació adreçada per a empreses i emprenedors en la què es reflexionarà sobre el futur de l'empresa familiar, com augmentar la rendibilitat del negoci i de les eines del protocol i del pacte successori que poden ajudar a planificar la continuïtat de l'empresa familiar.

URI:https://www.santhipolitdevoltrega.cat/actualitat/agenda/formacio-per-a-empreses-i-emprenedors--tancar-vendre-o-continuar.html
CLASS:PUBLIC
END:VEVENT
END:VCALENDAR
