BEGIN:VCALENDAR
VERSION:2.0
CALSCALE:GREGORIAN
PRODID:-//Diputació de Barcelona//DibaCMS//EN
BEGIN:VEVENT
UID:3083
DTSTAMP:20260421T061218
DTSTART:20180502T190000
DTEND:20180502T200000
SUMMARY:Conferència | Què vol aprendre el cervell dels infants i adolescents?
LOCATION:Carrer de la Vinya , 2 08512 Sant Hipòlit de Voltregà
METHOD:PUBLISH
X-WR-CALNAME:st.hipolit@santhipolitdevoltrega.cat
X-WR-TIMEZONE:Europe/Madrid
DESCRIPTION:La conferència anirà a càrrec de David Bueno, un científic envoltat de prenguntes: Com aprenem? Com pensa un adolescent? Quina és la millor edat per començar amb un segon idioma? Per què la música, la plàstica i l'educació física són tant importants?

URI:https://www.santhipolitdevoltrega.cat/actualitat/agenda/conferencia--que-vol-aprendre-el-cervell-dels-infants-i-adolescents.html
CLASS:PUBLIC
END:VEVENT
END:VCALENDAR
