BEGIN:VCALENDAR
VERSION:2.0
CALSCALE:GREGORIAN
PRODID:-//Diputació de Barcelona//DibaCMS//EN
BEGIN:VEVENT
UID:3079
DTSTAMP:20260420T210150
DTSTART:20180408T180000
DTEND:20180408T190000
SUMMARY:España Ingobernable
LOCATION:Carrer de l'Església,1 08512 Sant Hipòlit de Voltregà
METHOD:PUBLISH
X-WR-CALNAME:st.hipolit@santhipolitdevoltrega.cat
X-WR-TIMEZONE:Europe/Madrid
DESCRIPTION:Alberto San Juan i Fernando Egozcue presenten "España Ingobernable", un relat fragmentat de les lluites populars de la Segona República a través de retalls de premsa, poemes, cançons... i amb grans dosis d'humor.

URI:https://www.santhipolitdevoltrega.cat/actualitat/agenda/espana-ingobernable.html
CLASS:PUBLIC
END:VEVENT
END:VCALENDAR
