BEGIN:VCALENDAR
VERSION:2.0
CALSCALE:GREGORIAN
PRODID:-//Diputació de Barcelona//DibaCMS//EN
BEGIN:VEVENT
UID:3074
DTSTAMP:20260420T223912
DTSTART:20180401T120000
DTEND:20180401T130000
SUMMARY:Les Caramelles | Cor la Veu de Voltregà
LOCATION:
METHOD:PUBLISH
X-WR-CALNAME:st.hipolit@santhipolitdevoltrega.cat
X-WR-TIMEZONE:Europe/Madrid
DESCRIPTION:Caramelles al Voltreganès amb el Cor la Veu. A les 12 hores, a la Parròquia de Sant Hipòlit de Voltregà, tindrà lloc la missa de Pasqua cantada, tot seguit, a les 12.45 hores, les tradicionals caramelles.

URI:https://www.santhipolitdevoltrega.cat/actualitat/agenda/les-caramelles--cor-la-veu-de-voltrega.html
CLASS:PUBLIC
END:VEVENT
END:VCALENDAR
