BEGIN:VCALENDAR
VERSION:2.0
CALSCALE:GREGORIAN
PRODID:-//Diputació de Barcelona//DibaCMS//EN
BEGIN:VEVENT
UID:3070
DTSTAMP:20260420T224008
DTSTART:20180519T183000
DTEND:20180519T203000
SUMMARY:1a Cronoescalada Up Xic
LOCATION:
METHOD:PUBLISH
X-WR-CALNAME:st.hipolit@santhipolitdevoltrega.cat
X-WR-TIMEZONE:Europe/Madrid
DESCRIPTION:La 1a Cronoescalada Up Xic tindrà lloc el 19 de maig d’enguany, a les 18.30 hores.

És una cursa cronometrada que sortirà des del Passatge Parés de Sant Hipòlit de Voltregà i pujarà fins a Sant Martí Xic. Els atletes sortiran d’un en un cada trenta segons, fins a un màxim de 120 atletes, cronometrant-se només la pujada, sent el temps estimat del primer corredor d'entre 25 i 30 minuts i el temps màxim per fer la cursa de dues hores.

URI:https://www.santhipolitdevoltrega.cat/actualitat/agenda/1a-cronoescalada-up-xic.html
CLASS:PUBLIC
END:VEVENT
END:VCALENDAR
