BEGIN:VCALENDAR
VERSION:2.0
CALSCALE:GREGORIAN
PRODID:-//Diputació de Barcelona//DibaCMS//EN
BEGIN:VEVENT
UID:3061
DTSTAMP:20260420T235952
DTSTART:20180505T133000
DTEND:20180505T163000
SUMMARY:Sardinada a La Llar
LOCATION:Carrer Hospital, 11 08512 Sant Hipòlit de Voltregà
METHOD:PUBLISH
X-WR-CALNAME:st.hipolit@santhipolitdevoltrega.cat
X-WR-TIMEZONE:Europe/Madrid
DESCRIPTION:El dissabte 5 de maig d'enguany, a les 13.30 hores, s'organitza una sardinada a La Llar "Fundació Gallifa", que constarà d'amanida, sardines, postres, pa, beguda i cafè.

Cal portar plat, got i coberts.

Inscripcions a La Llar i a l'Ajuntament de Sant Hipòlit de Voltregà.

URI:https://www.santhipolitdevoltrega.cat/actualitat/agenda/3061-sardinada-a-la-llar.html
CLASS:PUBLIC
END:VEVENT
END:VCALENDAR
