BEGIN:VCALENDAR
VERSION:2.0
CALSCALE:GREGORIAN
PRODID:-//Diputació de Barcelona//DibaCMS//EN
BEGIN:VEVENT
UID:3058
DTSTAMP:20260420T211100
DTSTART:20180412T100000
DTEND:20180412T120000
SUMMARY:Club de la Feina
LOCATION:
METHOD:PUBLISH
X-WR-CALNAME:st.hipolit@santhipolitdevoltrega.cat
X-WR-TIMEZONE:Europe/Madrid
DESCRIPTION:
URI:https://www.santhipolitdevoltrega.cat/actualitat/agenda/3058-club-de-la-feina.html
CLASS:PUBLIC
END:VEVENT
END:VCALENDAR
