BEGIN:VCALENDAR
VERSION:2.0
CALSCALE:GREGORIAN
PRODID:-//Diputació de Barcelona//DibaCMS//EN
BEGIN:VEVENT
UID:3037
DTSTAMP:20260420T205114
DTSTART:20180310T000000
DTEND:20180310T000000
SUMMARY:Anu·lat el concert de Marta Knight
LOCATION:Carrer de l'Església,1 08512 Sant Hipòlit de Voltregà
METHOD:PUBLISH
X-WR-CALNAME:st.hipolit@santhipolitdevoltrega.cat
X-WR-TIMEZONE:Europe/Madrid
DESCRIPTION:El concert previst per avui queda anul·lat, tant bon punt disposem de data, s'informarà al web i a les xarxes socials.

Disculpeu les molèsties.

 

URI:https://www.santhipolitdevoltrega.cat/actualitat/agenda/anulat-el-concert-de-marta-knight.html
CLASS:PUBLIC
END:VEVENT
END:VCALENDAR
