BEGIN:VCALENDAR
VERSION:2.0
CALSCALE:GREGORIAN
PRODID:-//Diputació de Barcelona//DibaCMS//EN
BEGIN:VEVENT
UID:3031
DTSTAMP:20260421T000054
DTSTART:20180309T210000
DTEND:20180309T220000
SUMMARY:EN VEU DE DONA | Musical de Paula Valls
LOCATION:Carrer de l'Església,1 08512 Sant Hipòlit de Voltregà
METHOD:PUBLISH
X-WR-CALNAME:st.hipolit@santhipolitdevoltrega.cat
X-WR-TIMEZONE:Europe/Madrid
DESCRIPTION:Paula Valls presenta el concert en Veu de Dona a la Sala Petita de Sant Hipòlit de Voltregà.

URI:https://www.santhipolitdevoltrega.cat/actualitat/agenda/en-veu-de-dona--musical-de-paula-valls.html
CLASS:PUBLIC
END:VEVENT
END:VCALENDAR
