BEGIN:VCALENDAR
VERSION:2.0
CALSCALE:GREGORIAN
PRODID:-//Diputació de Barcelona//DibaCMS//EN
BEGIN:VEVENT
UID:3030
DTSTAMP:20260421T000023
DTSTART:20180308T210000
DTEND:20180308T230000
SUMMARY:EN VEU DE DONA | Musical de Marta Casanovas
LOCATION:Carrer de l'Església,1 08512 Sant Hipòlit de Voltregà
METHOD:PUBLISH
X-WR-CALNAME:st.hipolit@santhipolitdevoltrega.cat
X-WR-TIMEZONE:Europe/Madrid
DESCRIPTION:Marta Casanova és una jove compositora i guitarrista de Cartagena. Amb tan sols 24 anys, ja ha viscut en ciutats como Madrid o Berlín, però és a Londres on ha trobat el lloc para materialitzar el seu projecte en format banda.

Resident a la capital britànica, estudia música i producció mentre prepara la gravació de un primer EP que publicarà el pròxim hivern. Amb influències que van del folk al pop anglès, destaca Bon Iver i Amy Winehouse com a  influències principals.
Després de molts concerts i de la seva creació constant, Marta Casanova està a punt de presentar-nos les seves darreres i noves.

URI:https://www.santhipolitdevoltrega.cat/actualitat/agenda/en-veu-de-dona--musical-de-marta-casanovas.html
CLASS:PUBLIC
END:VEVENT
END:VCALENDAR
