BEGIN:VCALENDAR
VERSION:2.0
CALSCALE:GREGORIAN
PRODID:-//Diputació de Barcelona//DibaCMS//EN
BEGIN:VEVENT
UID:3028
DTSTAMP:20260421T000219
DTSTART:20180311T170000
DTEND:20180311T200000
SUMMARY:VGZ | Virtual Game Zone
LOCATION:Carrer Batlle Serrallonga, 4 08512 Sant Hipòlit de Voltregà
METHOD:PUBLISH
X-WR-CALNAME:st.hipolit@santhipolitdevoltrega.cat
X-WR-TIMEZONE:Europe/Madrid
DESCRIPTION:Jocs interactius, simuladors, realitat virtual,... 

URI:https://www.santhipolitdevoltrega.cat/actualitat/agenda/vgz--virtual-game-zone.html
CLASS:PUBLIC
END:VEVENT
END:VCALENDAR
