BEGIN:VCALENDAR
VERSION:2.0
CALSCALE:GREGORIAN
PRODID:-//Diputació de Barcelona//DibaCMS//EN
BEGIN:VEVENT
UID:3027
DTSTAMP:20260420T222438
DTSTART:20180310T100000
DTEND:20180310T120000
SUMMARY:Taller de Parkour amb en Gil Grifols
LOCATION:Carrer Batlle Serrallonga, 4 08512 Sant Hipòlit de Voltregà
METHOD:PUBLISH
X-WR-CALNAME:st.hipolit@santhipolitdevoltrega.cat
X-WR-TIMEZONE:Europe/Madrid
DESCRIPTION:Inscripcions a El Ganxo. Places limitades fins el dia 9 a la tarda.

URI:https://www.santhipolitdevoltrega.cat/actualitat/agenda/taller-de-parkour-amb-en-gil-grifols.html
CLASS:PUBLIC
END:VEVENT
END:VCALENDAR
