BEGIN:VCALENDAR
VERSION:2.0
CALSCALE:GREGORIAN
PRODID:-//Diputació de Barcelona//DibaCMS//EN
BEGIN:VEVENT
UID:3024
DTSTAMP:20260420T222352
DTSTART:20180309T170000
DTEND:20180309T190000
SUMMARY:Taller de Rap, per a joves a El Ganxo
LOCATION:
METHOD:PUBLISH
X-WR-CALNAME:st.hipolit@santhipolitdevoltrega.cat
X-WR-TIMEZONE:Europe/Madrid
DESCRIPTION:
URI:https://www.santhipolitdevoltrega.cat/actualitat/agenda/taller-de-rap-per-a-joves-a-el-ganxo.html
CLASS:PUBLIC
END:VEVENT
END:VCALENDAR
