BEGIN:VCALENDAR
VERSION:2.0
CALSCALE:GREGORIAN
PRODID:-//Diputació de Barcelona//DibaCMS//EN
BEGIN:VEVENT
UID:3023
DTSTAMP:20260420T192443
DTSTART:20180307T171500
DTEND:20180307T184500
SUMMARY:Taller de Shuffle Dance 
LOCATION:
METHOD:PUBLISH
X-WR-CALNAME:st.hipolit@santhipolitdevoltrega.cat
X-WR-TIMEZONE:Europe/Madrid
DESCRIPTION:
URI:https://www.santhipolitdevoltrega.cat/actualitat/agenda/taller-de-shuffle-dance-.html
CLASS:PUBLIC
END:VEVENT
END:VCALENDAR
