BEGIN:VCALENDAR
VERSION:2.0
CALSCALE:GREGORIAN
PRODID:-//Diputació de Barcelona//DibaCMS//EN
BEGIN:VEVENT
UID:3022
DTSTAMP:20260420T205257
DTSTART:20180304T173000
DTEND:20180304T193000
SUMMARY:Sexualitat i amor, com funciona tot això?
LOCATION:Carrer Batlle Serrallonga, 4 08512 Sant Hipòlit de Voltregà
METHOD:PUBLISH
X-WR-CALNAME:st.hipolit@santhipolitdevoltrega.cat
X-WR-TIMEZONE:Europe/Madrid
DESCRIPTION:Taller amb joves, amb la sexòloga Elena Crespi

URI:https://www.santhipolitdevoltrega.cat/actualitat/agenda/sexualitat-i-amor-com-funciona-tot-aixo.html
CLASS:PUBLIC
END:VEVENT
END:VCALENDAR
