BEGIN:VCALENDAR
VERSION:2.0
CALSCALE:GREGORIAN
PRODID:-//Diputació de Barcelona//DibaCMS//EN
BEGIN:VEVENT
UID:3021
DTSTAMP:20260421T094343
DTSTART:20181120T160000
DTEND:20181120T180000
SUMMARY:Sòl pèlvic: com reforçar-lo
LOCATION:Carrer Hospital, 11 08512 Sant Hipòlit de Voltregà
METHOD:PUBLISH
X-WR-CALNAME:st.hipolit@santhipolitdevoltrega.cat
X-WR-TIMEZONE:Europe/Madrid
DESCRIPTION:A càrrec de la llevadora i treballadora social del CAP

URI:https://www.santhipolitdevoltrega.cat/actualitat/agenda/sol-pelvic-com-reforcar-lo.html
CLASS:PUBLIC
END:VEVENT
END:VCALENDAR
