BEGIN:VCALENDAR
VERSION:2.0
CALSCALE:GREGORIAN
PRODID:-//Diputació de Barcelona//DibaCMS//EN
BEGIN:VEVENT
UID:3020
DTSTAMP:20260423T103157
DTSTART:20181107T160000
DTEND:20181106T170000
SUMMARY:La menopausa: Què canvia i com encarar-ho
LOCATION:Carrer Hospital, 11 08512 Sant Hipòlit de Voltregà
METHOD:PUBLISH
X-WR-CALNAME:st.hipolit@santhipolitdevoltrega.cat
X-WR-TIMEZONE:Europe/Madrid
DESCRIPTION:Xerrada a càrrec de la llevadora i la treballadora social del CAP

URI:https://www.santhipolitdevoltrega.cat/actualitat/agenda/la-menopausa-que-canvia-i-com-encarar-ho.html
CLASS:PUBLIC
END:VEVENT
END:VCALENDAR
